BEGIN:VCALENDAR
VERSION:2.0
PRODID:-//岡田愛―ソプラノ― - ECPv6.15.20//NONSGML v1.0//EN
CALSCALE:GREGORIAN
METHOD:PUBLISH
X-WR-CALNAME:岡田愛―ソプラノ―
X-ORIGINAL-URL:https://ai.okada.events
X-WR-CALDESC:岡田愛―ソプラノ― のイベント
REFRESH-INTERVAL;VALUE=DURATION:PT1H
X-Robots-Tag:noindex
X-PUBLISHED-TTL:PT1H
BEGIN:VTIMEZONE
TZID:Asia/Tokyo
BEGIN:STANDARD
TZOFFSETFROM:+0900
TZOFFSETTO:+0900
TZNAME:JST
DTSTART:20180101T000000
END:STANDARD
END:VTIMEZONE
BEGIN:VEVENT
DTSTART;TZID=Asia/Tokyo:20190215T180000
DTEND;TZID=Asia/Tokyo:20190215T200000
DTSTAMP:20260423T031609
CREATED:20180819T052143Z
LAST-MODIFIED:20190311T021740Z
UID:118-1550253600-1550260800@ai.okada.events
SUMMARY:東京藝術大学大学院 重唱特別演習後期発表会
DESCRIPTION:2019年2月15日（金）\n17:30開場／18:00開演\n@東京藝術大学音楽学部 第2ホール\n一般公開《入場無料》\n＊出演＊\n大田 茉里、 岡田 愛、 髙階 ちひろ、 平林 希乃美、 金沢 青児\n鷹野 景輔、 阿部 和磨、 川田 直輝、 外崎 広弥、 三神 祐太郎\n＊ピアノ＊\n髙木 由雅\n＊監修＊\n平松 英子\n＊曲目＊ （演奏曲目（ソロ含む）…☆，全員…★）\nJ.S.バッハ《Suscepit Israel》☆\nF.シューベルト《Die Nacht》《Gebet》☆\nR.シューマン《Herbstlied》《Erste Begegnung》《Ich bin dein Baum\, O Gärtner》☆\nJ.ラター《Angels’ Carol》★《There is a flower》★\nA.L.ウェバー《Pie Jesu》☆\nF.ストップフォード《Lully\, Lulla\, Lullay》★\nA.ドヴォルジャーク《Goin’Home》★\n他 \n 
URL:https://ai.okada.events/event/%e6%9d%b1%e4%ba%ac%e8%97%9d%e8%a1%93%e5%a4%a7%e5%ad%a6%e5%a4%a7%e5%ad%a6%e9%99%a2-%e9%87%8d%e5%94%b1%e7%89%b9%e5%88%a5%e6%bc%94%e7%bf%92%e5%89%8d%e6%9c%9f%e7%99%ba%e8%a1%a8%e4%bc%9a/
LOCATION:東京藝術大学\, 上野公園12-8\, 台東区\, 東京都\, 110-8714\, Japan
CATEGORIES:学内行事
ATTACH;FMTTYPE=image/jpeg:https://ai.okada.events/wp-content/uploads/2018/08/32d4a19df89e99bab8d8c24380bffb90.jpg
END:VEVENT
END:VCALENDAR